BEGIN:VCALENDAR
VERSION:2.0
PRODID:-//Autism Behavior Support - ECPv6.15.20//NONSGML v1.0//EN
CALSCALE:GREGORIAN
METHOD:PUBLISH
X-WR-CALNAME:Autism Behavior Support
X-ORIGINAL-URL:https://autismbehaviorsupport.org
X-WR-CALDESC:Events for Autism Behavior Support
REFRESH-INTERVAL;VALUE=DURATION:PT1H
X-Robots-Tag:noindex
X-PUBLISHED-TTL:PT1H
BEGIN:VTIMEZONE
TZID:America/Chicago
BEGIN:DAYLIGHT
TZOFFSETFROM:-0600
TZOFFSETTO:-0500
TZNAME:CDT
DTSTART:20250309T080000
END:DAYLIGHT
BEGIN:STANDARD
TZOFFSETFROM:-0500
TZOFFSETTO:-0600
TZNAME:CST
DTSTART:20251102T070000
END:STANDARD
BEGIN:DAYLIGHT
TZOFFSETFROM:-0600
TZOFFSETTO:-0500
TZNAME:CDT
DTSTART:20260308T080000
END:DAYLIGHT
BEGIN:STANDARD
TZOFFSETFROM:-0500
TZOFFSETTO:-0600
TZNAME:CST
DTSTART:20261101T070000
END:STANDARD
BEGIN:DAYLIGHT
TZOFFSETFROM:-0600
TZOFFSETTO:-0500
TZNAME:CDT
DTSTART:20270314T080000
END:DAYLIGHT
BEGIN:STANDARD
TZOFFSETFROM:-0500
TZOFFSETTO:-0600
TZNAME:CST
DTSTART:20271107T070000
END:STANDARD
END:VTIMEZONE
BEGIN:VEVENT
DTSTART;TZID=America/Chicago:20260303T140000
DTEND;TZID=America/Chicago:20260303T160000
DTSTAMP:20260420T115533
CREATED:20260215T041438Z
LAST-MODIFIED:20260215T073939Z
UID:1543-1772546400-1772553600@autismbehaviorsupport.org
SUMMARY:Sensory-Friendly Movie Day
DESCRIPTION:Join us for a family-friendly movie screening with adjusted lighting\n   and sound levels. Perfect for children with sensory sensitivities. \n   What to expect:\n   • Dimmed lights (not completely dark)\n   • Lower volume levels\n   • Freedom to move around\n   • Quiet spaces available \n   Snacks and drinks provided. Siblings welcome!
URL:https://autismbehaviorsupport.org/event/sensory-friendly-movie-day/
LOCATION:ABS Killeen Center\, 4003 W Stan Schlueter Loop\, Suite 3\, Killeen\, Texas\, 76549
CATEGORIES:Social
END:VEVENT
BEGIN:VEVENT
DTSTART;TZID=America/Chicago:20260309T090000
DTEND;TZID=America/Chicago:20260309T103000
DTSTAMP:20260420T115533
CREATED:20260215T041739Z
LAST-MODIFIED:20260215T041739Z
UID:1548-1773046800-1773052200@autismbehaviorsupport.org
SUMMARY:Social Skills Playgroup (Ages 4-7
DESCRIPTION:
URL:https://autismbehaviorsupport.org/event/social-skills-playgroup-ages-4-7/
LOCATION:ABS Killeen Center\, 4003 W Stan Schlueter Loop\, Suite 3\, Killeen\, Texas\, 76549
CATEGORIES:Social
END:VEVENT
BEGIN:VEVENT
DTSTART;TZID=America/Chicago:20260317T140000
DTEND;TZID=America/Chicago:20260317T160000
DTSTAMP:20260420T115533
CREATED:20260215T042318Z
LAST-MODIFIED:20260215T042318Z
UID:1557-1773756000-1773763200@autismbehaviorsupport.org
SUMMARY:Community Playdate
DESCRIPTION:
URL:https://autismbehaviorsupport.org/event/community-playdate/
LOCATION:ABS Killeen Center\, 4003 W Stan Schlueter Loop\, Suite 3\, Killeen\, Texas\, 76549
CATEGORIES:Social
END:VEVENT
END:VCALENDAR