BEGIN:VCALENDAR
VERSION:2.0
PRODID:-//Autism Behavior Support - ECPv6.15.20//NONSGML v1.0//EN
CALSCALE:GREGORIAN
METHOD:PUBLISH
X-WR-CALNAME:Autism Behavior Support
X-ORIGINAL-URL:https://autismbehaviorsupport.org
X-WR-CALDESC:Events for Autism Behavior Support
REFRESH-INTERVAL;VALUE=DURATION:PT1H
X-Robots-Tag:noindex
X-PUBLISHED-TTL:PT1H
BEGIN:VTIMEZONE
TZID:America/Chicago
BEGIN:DAYLIGHT
TZOFFSETFROM:-0600
TZOFFSETTO:-0500
TZNAME:CDT
DTSTART:20250309T080000
END:DAYLIGHT
BEGIN:STANDARD
TZOFFSETFROM:-0500
TZOFFSETTO:-0600
TZNAME:CST
DTSTART:20251102T070000
END:STANDARD
BEGIN:DAYLIGHT
TZOFFSETFROM:-0600
TZOFFSETTO:-0500
TZNAME:CDT
DTSTART:20260308T080000
END:DAYLIGHT
BEGIN:STANDARD
TZOFFSETFROM:-0500
TZOFFSETTO:-0600
TZNAME:CST
DTSTART:20261101T070000
END:STANDARD
BEGIN:DAYLIGHT
TZOFFSETFROM:-0600
TZOFFSETTO:-0500
TZNAME:CDT
DTSTART:20270314T080000
END:DAYLIGHT
BEGIN:STANDARD
TZOFFSETFROM:-0500
TZOFFSETTO:-0600
TZNAME:CST
DTSTART:20271107T070000
END:STANDARD
END:VTIMEZONE
BEGIN:VEVENT
DTSTART;TZID=America/Chicago:20260425T090000
DTEND;TZID=America/Chicago:20260425T180000
DTSTAMP:20260420T100255
CREATED:20260327T201416Z
LAST-MODIFIED:20260409T035051Z
UID:1694-1777107600-1777140000@autismbehaviorsupport.org
SUMMARY:Autism Walk/Run 2026
DESCRIPTION:
URL:https://autismbehaviorsupport.org/event/autism-walk-run-2026/
LOCATION:Ascarate Park\, 6900 Delta\, El Paso\, TX\, 79905\, United States
CATEGORIES:El Paso,Social
ORGANIZER;CN="Autism Behavior Support":MAILTO:autismbs6@gmail.com
END:VEVENT
END:VCALENDAR